BEGIN:VCALENDAR
VERSION:2.0
PRODID:-//Seniors At Home - ECPv6.3.7//NONSGML v1.0//EN
CALSCALE:GREGORIAN
METHOD:PUBLISH
X-WR-CALNAME:Seniors At Home
X-ORIGINAL-URL:https://seniorsathome.jfcs.org
X-WR-CALDESC:Events for Seniors At Home
REFRESH-INTERVAL;VALUE=DURATION:PT1H
X-Robots-Tag:noindex
X-PUBLISHED-TTL:PT1H
BEGIN:VTIMEZONE
TZID:America/Los_Angeles
BEGIN:DAYLIGHT
TZOFFSETFROM:-0800
TZOFFSETTO:-0700
TZNAME:PDT
DTSTART:20250309T100000
END:DAYLIGHT
BEGIN:STANDARD
TZOFFSETFROM:-0700
TZOFFSETTO:-0800
TZNAME:PST
DTSTART:20251102T090000
END:STANDARD
END:VTIMEZONE
BEGIN:VEVENT
DTSTART;TZID=America/Los_Angeles:20250925T130000
DTEND;TZID=America/Los_Angeles:20250925T150000
DTSTAMP:20260425T151325
CREATED:20250815T192639Z
LAST-MODIFIED:20251003T225331Z
UID:10002036-1758805200-1758812400@seniorsathome.jfcs.org
SUMMARY:Memory Cafe in Marin -- 9/25/2025
DESCRIPTION:Come with us to explore the Wildlife Ambassador Zone at WildCare\, a wildlife hospital\, nature education center and wildlife advocacy organization. We’ll meet the animals\, learn about them\, and hear their stories. \nCaring for a loved one with memory loss doesn’t have to be a lonely job. Memory Cafe is a gathering for people experiencing mild to moderate memory loss and their caregivers (spouses\, family members\, or friends). Enjoy time with your loved one and meet others who are dealing with similar issues in a supportive and welcoming environment. \nMemory Cafe meets on many Thursdays in Marin at different locations. Participants must be accompanied by their caregiver. \nRSVP in advance by emailing Amy Takemoto at: MemoryCafe@jfcs.org. \nAbout this outing: \nWildCare is located behind 251 North San Pedro Road\, next to the Gallinas Little League Field in San Rafael. It is home to non-releasable\, rescued wild animals. WildCare’s Wildlife Ambassador Program is a unique collaboration between animals and their human handlers designed to provide an enriched experience of animals on display. Through Ambassador Zone signage and interactions with our docents\, visitors are introduced to each Wildlife Ambassador and learn the animal’s personal story. Visitors learn fascinating facts about the species as well as information about the environmental issues faced by wild animals today. \nMemory Cafe in Marin is sponsored by the JFCS Marin Donor Circle.
URL:https://seniorsathome.jfcs.org/event/memory-cafe-in-marin-9-25-2025/
LOCATION:Wildcare (their temporary location)\, 37 Schmidt Lane\, San Rafael\, CA\, 94903
ATTACH;FMTTYPE=image/jpeg:https://seniorsathome.jfcs.org/app/uploads/2024/02/iStock-511918896.jpg
ORGANIZER;CN="Amy Takemoto":MAILTO:memorycafe@jfcs.org
END:VEVENT
END:VCALENDAR