BEGIN:VCALENDAR
VERSION:2.0
PRODID:-//Seniors At Home - ECPv6.3.7//NONSGML v1.0//EN
CALSCALE:GREGORIAN
METHOD:PUBLISH
X-WR-CALNAME:Seniors At Home
X-ORIGINAL-URL:https://seniorsathome.jfcs.org
X-WR-CALDESC:Events for Seniors At Home
REFRESH-INTERVAL;VALUE=DURATION:PT1H
X-Robots-Tag:noindex
X-PUBLISHED-TTL:PT1H
BEGIN:VTIMEZONE
TZID:America/Los_Angeles
BEGIN:DAYLIGHT
TZOFFSETFROM:-0800
TZOFFSETTO:-0700
TZNAME:PDT
DTSTART:20250309T100000
END:DAYLIGHT
BEGIN:STANDARD
TZOFFSETFROM:-0700
TZOFFSETTO:-0800
TZNAME:PST
DTSTART:20251102T090000
END:STANDARD
BEGIN:DAYLIGHT
TZOFFSETFROM:-0800
TZOFFSETTO:-0700
TZNAME:PDT
DTSTART:20260308T100000
END:DAYLIGHT
BEGIN:STANDARD
TZOFFSETFROM:-0700
TZOFFSETTO:-0800
TZNAME:PST
DTSTART:20261101T090000
END:STANDARD
END:VTIMEZONE
BEGIN:VEVENT
DTSTART;TZID=America/Los_Angeles:20260217T124500
DTEND;TZID=America/Los_Angeles:20260217T143000
DTSTAMP:20260425T151045
CREATED:20260127T010024Z
LAST-MODIFIED:20260127T191922Z
UID:10002114-1771332300-1771338600@seniorsathome.jfcs.org
SUMMARY:Memory Cafe in San Francisco—2/17/2026
DESCRIPTION:Join us at Muttville for Cuddle Club! Cuddle or observe the senior dogs as they roam around the Cuddle Club area. Muttville is the first cage free shelter in the U.S. and first California senior dog rescue. \nPlease do not park in 5 minute visitor drop off zone in front. \nCaring for a loved one with memory loss doesn’t have to be a lonely job. Memory Cafe is a gathering for people experiencing mild to moderate memory loss and their caregivers (spouses\, family members\, or friends). Enjoy time with your loved one and meet others who are dealing with similar issues in a supportive and welcoming environment. \nSan Francisco Memory Cafe meets on many Tuesdays at different locations. Participants must be accompanied by their caregiver. \nRSVP in advance by February 8th. To RSVP contact Amy Takemoto at Memorycafe@jfcs.org. Please indicate the name of participant and caregiver\, date of the event and which Memory Café event you are responding to in the email.
URL:https://seniorsathome.jfcs.org/event/memory-cafe-in-san-francisco-2-17-2026/
LOCATION:Muttville Senior Dog Rescue\, 750 Florida Street\, San Francisco\, CA\, 94110\, United States
ATTACH;FMTTYPE=image/jpeg:https://seniorsathome.jfcs.org/app/uploads/2024/02/iStock-500505080.jpg
ORGANIZER;CN="Amy Takemoto":MAILTO:memorycafe@jfcs.org
END:VEVENT
BEGIN:VEVENT
DTSTART;TZID=America/Los_Angeles:20250218T124500
DTEND;TZID=America/Los_Angeles:20250218T150000
DTSTAMP:20260425T151045
CREATED:20250116T174411Z
LAST-MODIFIED:20250904T222820Z
UID:10001845-1739882700-1739890800@seniorsathome.jfcs.org
SUMMARY:Memory Cafe in San Francisco -- 2/18/2025
DESCRIPTION:Join us for Muttville’s “Cuddle Club” with senior dogs at their beautiful facility. Play\, cuddle\, or observe the dogs as they roam around the Cuddle Club area. \nCaring for a loved one with memory loss doesn’t have to be a lonely job. Memory Cafe is a gathering for people experiencing mild to moderate memory loss and their caregivers (spouses\, family members\, or friends). Enjoy time with your loved one and meet others who are dealing with similar issues in a supportive and welcoming environment. \nAbout this event: Muttville is the first cage-free shelter in the U.S. and first California senior dog rescue. Guidelines for Cuddle Club visit: Please do not park in 5 minute visitor drop off zone in front. No food/treats (for mutts or humans) are allowed in the Cuddle Club area. No other dogs/animals allowed except trained service dogs. \nSan Francisco Memory Cafe meets on many Tuesdays at different locations. Participants must be accompanied by their caregiver. \nRSVP required by February 11.  RSVP to Amy Takemoto by emailing her at: MemoryCafe@jfcs.org.
URL:https://seniorsathome.jfcs.org/event/memory-cafe-in-san-francisco-2-18-2025/
LOCATION:Muttville Senior Dog Rescue\, 750 Florida Street\, San Francisco\, CA\, 94110\, United States
ATTACH;FMTTYPE=image/jpeg:https://seniorsathome.jfcs.org/app/uploads/2024/02/iStock-500505080.jpg
ORGANIZER;CN="Amy Takemoto":MAILTO:memorycafe@jfcs.org
END:VEVENT
END:VCALENDAR